BEGIN:VCALENDAR
VERSION:2.0
PRODID:-//Ruderabteilung des Bremer Sport-Club e.V. - ECPv6.15.20//NONSGML v1.0//EN
CALSCALE:GREGORIAN
METHOD:PUBLISH
X-ORIGINAL-URL:https://rudern-bsc.de
X-WR-CALDESC:Veranstaltungen für Ruderabteilung des Bremer Sport-Club e.V.
REFRESH-INTERVAL;VALUE=DURATION:PT1H
X-Robots-Tag:noindex
X-PUBLISHED-TTL:PT1H
BEGIN:VTIMEZONE
TZID:Europe/Berlin
BEGIN:DAYLIGHT
TZOFFSETFROM:+0100
TZOFFSETTO:+0200
TZNAME:CEST
DTSTART:20250330T010000
END:DAYLIGHT
BEGIN:STANDARD
TZOFFSETFROM:+0200
TZOFFSETTO:+0100
TZNAME:CET
DTSTART:20251026T010000
END:STANDARD
BEGIN:DAYLIGHT
TZOFFSETFROM:+0100
TZOFFSETTO:+0200
TZNAME:CEST
DTSTART:20260329T010000
END:DAYLIGHT
BEGIN:STANDARD
TZOFFSETFROM:+0200
TZOFFSETTO:+0100
TZNAME:CET
DTSTART:20261025T010000
END:STANDARD
BEGIN:DAYLIGHT
TZOFFSETFROM:+0100
TZOFFSETTO:+0200
TZNAME:CEST
DTSTART:20270328T010000
END:DAYLIGHT
BEGIN:STANDARD
TZOFFSETFROM:+0200
TZOFFSETTO:+0100
TZNAME:CET
DTSTART:20271031T010000
END:STANDARD
END:VTIMEZONE
BEGIN:VEVENT
DTSTART;TZID=Europe/Berlin:20260201T110000
DTEND;TZID=Europe/Berlin:20260201T170000
DTSTAMP:20260424T180251
CREATED:20251130T084321Z
LAST-MODIFIED:20251130T084321Z
UID:4380-1769943600-1769965200@rudern-bsc.de
SUMMARY:Kohlspaziergang 2026
DESCRIPTION:Hallo liebe Ruderfreundinnen und -freunde\, \nam Sonntag\, den 01.02.2026\, wollen wir uns wieder zum traditionellen Kohlessen treffen. \nNach einem Spaziergang wird Rada im Clubraum um 13.00 Uhr ein leckeres Kohlbüfett anbieten. \nFür 27.90 Euro könnt ihr euch wie immer an Kohl\, Fleisch und Pinkel satt essen. Auch ein leckerer Nachtisch ist wieder dabei. \nTreffpunkt: Vor dem Vereinsheim am 01.02.2026 um 11.00 Uhr. \nAnmeldungen bei Rada (0421-55 00 81). Natürlich kann auch vorher gerudert/trainiert werden\, Hauptsache\, ihr kommt mit gutem Appetit! \nIch freue mich auf euch und hoffe auf gutes Wetter\, und dass ihr alle gesund bleibt.\nBringt gute Laune und Sonnenschein mit! \nInge und Klaus Puckhaber
URL:https://rudern-bsc.de/event/kohlspaziergang-2026/
LOCATION:Postillon\, Werderstr. 66\, Bremen\, 28199
END:VEVENT
END:VCALENDAR