BEGIN:VCALENDAR
VERSION:2.0
PRODID:-//Ruderabteilung des Bremer Sport-Club e.V. - ECPv6.15.20//NONSGML v1.0//EN
CALSCALE:GREGORIAN
METHOD:PUBLISH
X-WR-CALNAME:Ruderabteilung des Bremer Sport-Club e.V.
X-ORIGINAL-URL:https://rudern-bsc.de
X-WR-CALDESC:Veranstaltungen für Ruderabteilung des Bremer Sport-Club e.V.
REFRESH-INTERVAL;VALUE=DURATION:PT1H
X-Robots-Tag:noindex
X-PUBLISHED-TTL:PT1H
BEGIN:VTIMEZONE
TZID:Europe/Berlin
BEGIN:DAYLIGHT
TZOFFSETFROM:+0100
TZOFFSETTO:+0200
TZNAME:CEST
DTSTART:20250330T010000
END:DAYLIGHT
BEGIN:STANDARD
TZOFFSETFROM:+0200
TZOFFSETTO:+0100
TZNAME:CET
DTSTART:20251026T010000
END:STANDARD
BEGIN:DAYLIGHT
TZOFFSETFROM:+0100
TZOFFSETTO:+0200
TZNAME:CEST
DTSTART:20260329T010000
END:DAYLIGHT
BEGIN:STANDARD
TZOFFSETFROM:+0200
TZOFFSETTO:+0100
TZNAME:CET
DTSTART:20261025T010000
END:STANDARD
BEGIN:DAYLIGHT
TZOFFSETFROM:+0100
TZOFFSETTO:+0200
TZNAME:CEST
DTSTART:20270328T010000
END:DAYLIGHT
BEGIN:STANDARD
TZOFFSETFROM:+0200
TZOFFSETTO:+0100
TZNAME:CET
DTSTART:20271031T010000
END:STANDARD
END:VTIMEZONE
BEGIN:VTIMEZONE
TZID:UTC
BEGIN:STANDARD
TZOFFSETFROM:+0000
TZOFFSETTO:+0000
TZNAME:UTC
DTSTART:20240101T000000
END:STANDARD
END:VTIMEZONE
BEGIN:VTIMEZONE
TZID:Europe/Paris
BEGIN:DAYLIGHT
TZOFFSETFROM:+0100
TZOFFSETTO:+0200
TZNAME:CEST
DTSTART:20220327T010000
END:DAYLIGHT
BEGIN:STANDARD
TZOFFSETFROM:+0200
TZOFFSETTO:+0100
TZNAME:CET
DTSTART:20221030T010000
END:STANDARD
BEGIN:DAYLIGHT
TZOFFSETFROM:+0100
TZOFFSETTO:+0200
TZNAME:CEST
DTSTART:20230326T010000
END:DAYLIGHT
BEGIN:STANDARD
TZOFFSETFROM:+0200
TZOFFSETTO:+0100
TZNAME:CET
DTSTART:20231029T010000
END:STANDARD
BEGIN:DAYLIGHT
TZOFFSETFROM:+0100
TZOFFSETTO:+0200
TZNAME:CEST
DTSTART:20240331T010000
END:DAYLIGHT
BEGIN:STANDARD
TZOFFSETFROM:+0200
TZOFFSETTO:+0100
TZNAME:CET
DTSTART:20241027T010000
END:STANDARD
END:VTIMEZONE
BEGIN:VEVENT
DTSTART;TZID=Europe/Berlin:20260201T110000
DTEND;TZID=Europe/Berlin:20260201T170000
DTSTAMP:20260424T141910
CREATED:20251130T084321Z
LAST-MODIFIED:20251130T084321Z
UID:4380-1769943600-1769965200@rudern-bsc.de
SUMMARY:Kohlspaziergang 2026
DESCRIPTION:Hallo liebe Ruderfreundinnen und -freunde\, \nam Sonntag\, den 01.02.2026\, wollen wir uns wieder zum traditionellen Kohlessen treffen. \nNach einem Spaziergang wird Rada im Clubraum um 13.00 Uhr ein leckeres Kohlbüfett anbieten. \nFür 27.90 Euro könnt ihr euch wie immer an Kohl\, Fleisch und Pinkel satt essen. Auch ein leckerer Nachtisch ist wieder dabei. \nTreffpunkt: Vor dem Vereinsheim am 01.02.2026 um 11.00 Uhr. \nAnmeldungen bei Rada (0421-55 00 81). Natürlich kann auch vorher gerudert/trainiert werden\, Hauptsache\, ihr kommt mit gutem Appetit! \nIch freue mich auf euch und hoffe auf gutes Wetter\, und dass ihr alle gesund bleibt.\nBringt gute Laune und Sonnenschein mit! \nInge und Klaus Puckhaber
URL:https://rudern-bsc.de/event/kohlspaziergang-2026/
LOCATION:Postillon\, Werderstr. 66\, Bremen\, 28199
END:VEVENT
BEGIN:VEVENT
DTSTART;VALUE=DATE:20251206
DTEND;VALUE=DATE:20251207
DTSTAMP:20260424T141910
CREATED:20251016T140641Z
LAST-MODIFIED:20251016T140641Z
UID:4256-1764979200-1765065599@rudern-bsc.de
SUMMARY:Nikolausrudern
DESCRIPTION:
URL:https://rudern-bsc.de/event/nikolausrudern/
END:VEVENT
BEGIN:VEVENT
DTSTART;TZID=UTC:20251121T190000
DTEND;TZID=UTC:20251121T233000
DTSTAMP:20260424T141910
CREATED:20251016T124221Z
LAST-MODIFIED:20251016T124221Z
UID:4232-1763751600-1763767800@rudern-bsc.de
SUMMARY:Silberlingstreffen
DESCRIPTION:Anmeldung bei Rada erforderlich
URL:https://rudern-bsc.de/event/silberlingstreffen/
LOCATION:Postillon\, Werderstr. 66\, Bremen\, 28199
END:VEVENT
BEGIN:VEVENT
DTSTART;TZID=UTC:20251108T090000
DTEND;TZID=UTC:20251108T130000
DTSTAMP:20260424T141910
CREATED:20251016T123650Z
LAST-MODIFIED:20251016T174026Z
UID:4229-1762592400-1762606800@rudern-bsc.de
SUMMARY:Herbstarbeitsdienst
DESCRIPTION:
URL:https://rudern-bsc.de/event/herbstarbeitsdienst/
LOCATION:Vereinsheim\, Weserstr. 66\, Bremen\, 28199
END:VEVENT
BEGIN:VEVENT
DTSTART;TZID=Europe/Paris:20231124T190000
DTEND;TZID=Europe/Paris:20231124T233000
DTSTAMP:20260424T141910
CREATED:20231110T091833Z
LAST-MODIFIED:20231110T091833Z
UID:775-1700852400-1700868600@rudern-bsc.de
SUMMARY:Silberlingstreffen 2023
DESCRIPTION:Wir möchten euch im Namen des Vorstandes zu unserem Silberlingstreffen 2023 herzlich einladen. Es findet am Freitag\, den 24.11.2023 um 19 Uhr im Vereinsheim an der Werderstraße statt.\n\n\nWir haben folgendes Programm:\n\n\n– Eröffnung mit Begrüßung unserer neuen Mitglieder\n\n– Lecker Essen\n\n– Ruderaktivitäten 2023\n\n– Ehrungen\n\n– munterer Ausklang\n\n\nRada und Ihr Team wird uns wieder mit einem warmen Buffet  für 26\,90 € verwöhnen\, Die Kinderjahrgänge zahlen 18\,50€. Anmeldung bei Rada unbedingt erforderlich (persönlich oder per Mail postillion66@t-online.de). Buffetpatenschaften für unsere teilnehmenden Kinder und Junioren sind wieder herzlich erbeten und können an dem Abend übernommen werden.\n\n\nDer Vorstand freut sich auf eine rege Teilnahme!
URL:https://rudern-bsc.de/event/silberlingstreffen-2023/
LOCATION:Vereinsheim\, Weserstr. 66\, Bremen\, 28199
ATTACH;FMTTYPE=image/jpeg:https://rudern-bsc.de/wp-content/uploads/2023/11/nadia-valko-hYkOoi7z9sA-unsplash-scaled.jpg
END:VEVENT
END:VCALENDAR